BEGIN:VCALENDAR
VERSION:2.0
PRODID:-//Musikverein Ernestgrün - ECPv6.15.20//NONSGML v1.0//EN
CALSCALE:GREGORIAN
METHOD:PUBLISH
X-WR-CALNAME:Musikverein Ernestgrün
X-ORIGINAL-URL:https://www.mv-ernestgruen.de
X-WR-CALDESC:Veranstaltungen für Musikverein Ernestgrün
REFRESH-INTERVAL;VALUE=DURATION:PT1H
X-Robots-Tag:noindex
X-PUBLISHED-TTL:PT1H
BEGIN:VTIMEZONE
TZID:Europe/Berlin
BEGIN:DAYLIGHT
TZOFFSETFROM:+0100
TZOFFSETTO:+0200
TZNAME:CEST
DTSTART:20230326T010000
END:DAYLIGHT
BEGIN:STANDARD
TZOFFSETFROM:+0200
TZOFFSETTO:+0100
TZNAME:CET
DTSTART:20231029T010000
END:STANDARD
BEGIN:DAYLIGHT
TZOFFSETFROM:+0100
TZOFFSETTO:+0200
TZNAME:CEST
DTSTART:20240331T010000
END:DAYLIGHT
BEGIN:STANDARD
TZOFFSETFROM:+0200
TZOFFSETTO:+0100
TZNAME:CET
DTSTART:20241027T010000
END:STANDARD
BEGIN:DAYLIGHT
TZOFFSETFROM:+0100
TZOFFSETTO:+0200
TZNAME:CEST
DTSTART:20250330T010000
END:DAYLIGHT
BEGIN:STANDARD
TZOFFSETFROM:+0200
TZOFFSETTO:+0100
TZNAME:CET
DTSTART:20251026T010000
END:STANDARD
BEGIN:DAYLIGHT
TZOFFSETFROM:+0100
TZOFFSETTO:+0200
TZNAME:CEST
DTSTART:20260329T010000
END:DAYLIGHT
BEGIN:STANDARD
TZOFFSETFROM:+0200
TZOFFSETTO:+0100
TZNAME:CET
DTSTART:20261025T010000
END:STANDARD
END:VTIMEZONE
BEGIN:VEVENT
DTSTART;TZID=Europe/Berlin:20251228T170000
DTEND;TZID=Europe/Berlin:20251228T183000
DTSTAMP:20260422T071030
CREATED:20251203T064423Z
LAST-MODIFIED:20251203T064423Z
UID:2874-1766941200-1766946600@www.mv-ernestgruen.de
SUMMARY:Bad Neualbenreuther Weihnachtssingen
DESCRIPTION:
URL:https://www.mv-ernestgruen.de/event/bad-neualbenreuther-weihnachtssingen/
LOCATION:Pfarrkirche St. Laurentius Bad Neualbenreuth\, Marktplatz 14\, Bad Neualbenreuth\, Bayern\, 95698\, Deutschland
END:VEVENT
BEGIN:VEVENT
DTSTART;TZID=Europe/Berlin:20251214T150000
DTEND;TZID=Europe/Berlin:20251214T160000
DTSTAMP:20260422T071030
CREATED:20251203T063938Z
LAST-MODIFIED:20251203T063938Z
UID:2872-1765724400-1765728000@www.mv-ernestgruen.de
SUMMARY:Weihnachtsmarkt Bad Neualbenreuth
DESCRIPTION:Blaskapelle Ernestgrün mit traditionellen\, weihnachtlichen Weisen.
URL:https://www.mv-ernestgruen.de/event/weihnachtsmarkt-bad-neualbenreuth/
LOCATION:Marktplatz Bad Neualbenreuth\, Marktplatz\, Bad Neualbenreuth\, 95698\, Deutschland
END:VEVENT
BEGIN:VEVENT
DTSTART;TZID=Europe/Berlin:20251123T100000
DTEND;TZID=Europe/Berlin:20251123T110000
DTSTAMP:20260422T071030
CREATED:20240206T044202Z
LAST-MODIFIED:20250211T202053Z
UID:2256-1763892000-1763895600@www.mv-ernestgruen.de
SUMMARY:Volkstrauertag "Kleine Kappl"
DESCRIPTION:Kirchenzug und Gedenken zum Volkstrauertag\, Kleine Kappl\, St. Sebastian.
URL:https://www.mv-ernestgruen.de/event/volkstrauertag-kleine-kappl/
LOCATION:Ottengrün\, Kleine Kappl\, Ottengrün\, Kleine Kappl\, Bad Neualbenreuth\, Bayern\, 95698\, Deutschland
END:VEVENT
BEGIN:VEVENT
DTSTART;TZID=Europe/Berlin:20251116T083000
DTEND;TZID=Europe/Berlin:20251116T110000
DTSTAMP:20260422T071030
CREATED:20240206T044014Z
LAST-MODIFIED:20250211T201956Z
UID:2253-1763281800-1763290800@www.mv-ernestgruen.de
SUMMARY:Volkstrauertag
DESCRIPTION:Kirchenzug und Gedenken zum Volkstrauertag in Bad Neualbenreth.
URL:https://www.mv-ernestgruen.de/event/volkstrauertag/
LOCATION:Pfarrkirche St. Laurentius Bad Neualbenreuth\, Marktplatz 14\, Bad Neualbenreuth\, Bayern\, 95698\, Deutschland
END:VEVENT
BEGIN:VEVENT
DTSTART;TZID=Europe/Berlin:20251005T123000
DTEND;TZID=Europe/Berlin:20251005T170000
DTSTAMP:20260422T071030
CREATED:20230910T071751Z
LAST-MODIFIED:20250211T201730Z
UID:2145-1759667400-1759683600@www.mv-ernestgruen.de
SUMMARY:Kartoffelfest - Herbstzauber
DESCRIPTION:Die Blaskapelle Ernestgrün spielt beim Kartoffelfest am 05.10.2025 ab 12:30 Uhr. \nOrt: Kurpark Sibyllenbad \nVeranstaltung beginnt ab 11:00 Uhr. \n 
URL:https://www.mv-ernestgruen.de/event/kartoffelfest/
LOCATION:Kurgebiet Bad Neualbenreuth\, Kurgebiet Sibyllenbad\, Bad Neualbenreuth\, Bayern\, 95698\, Deutschland
END:VEVENT
BEGIN:VEVENT
DTSTART;TZID=Europe/Berlin:20250905T183000
DTEND;TZID=Europe/Berlin:20250905T183000
DTSTAMP:20260422T071030
CREATED:20220518T203653Z
LAST-MODIFIED:20250211T201615Z
UID:1425-1757097000-1757097000@www.mv-ernestgruen.de
SUMMARY:Öffentliche Musikprobe
DESCRIPTION:Öffentliche Musikprobe der Blaskapelle Ernestgrün im Sengerhof Bad Neualbenreuth\, Freitag\, 5. September\, ab 18:30 Uhr. \nFür das leibliche Wohl ist gesorgt.
URL:https://www.mv-ernestgruen.de/event/oeffentliche-musikprobe-3/
LOCATION:Sengerhof\, Turmstraße 5-7\, Neualbenreuth\, Bayern\, 95698\, Deutschland
END:VEVENT
BEGIN:VEVENT
DTSTART;TZID=Europe/Berlin:20250810T083000
DTEND;TZID=Europe/Berlin:20250810T120000
DTSTAMP:20260422T071030
CREATED:20220711T185318Z
LAST-MODIFIED:20250211T201521Z
UID:1479-1754814600-1754827200@www.mv-ernestgruen.de
SUMMARY:Kirchenzug zum Patrozinium anschl. Frühschoppen
DESCRIPTION:10.08.2025: \n08:45 Uhr\, Kirchenzug mit Festgottesdienst zum Patrozinium St. Laurentius\, mit allen Vereinen\, musikalische Gestaltung u.a. durch Blaskapelle Ernestgrün. \nab 10:30 Uhr\, Frühschoppen der KLJB Bad Neualbenreuth im Tillnsaal mit der Blaskapelle Ernestgrün.
URL:https://www.mv-ernestgruen.de/event/kirchenzug-zum-patrozinium-anschl-fruehschoppen/
LOCATION:Tillensaal Neualbenreuth\, Turmstraße 1\, Neualbenreuth\, Bayern\, 95698\, Deutschland
END:VEVENT
BEGIN:VEVENT
DTSTART;TZID=Europe/Berlin:20250801T190000
DTEND;TZID=Europe/Berlin:20250801T220000
DTSTAMP:20260422T071030
CREATED:20220518T203537Z
LAST-MODIFIED:20250211T201411Z
UID:1423-1754074800-1754085600@www.mv-ernestgruen.de
SUMMARY:Öffentliche Musikprobe
DESCRIPTION:Öffentliche Musikprobe der Blaskapelle Ernestgrün im Sengerhof Bad Neualbenreuth\, Freitag\, 1. August\, 19:00-22:00 Uhr. \nFür das leibliche Wohl ist gesorgt.
URL:https://www.mv-ernestgruen.de/event/oeffentliche-musikprobe-2/
LOCATION:Sengerhof\, Turmstraße 5-7\, Neualbenreuth\, Bayern\, 95698\, Deutschland
END:VEVENT
BEGIN:VEVENT
DTSTART;TZID=Europe/Berlin:20250720T140000
DTEND;TZID=Europe/Berlin:20250720T180000
DTSTAMP:20260422T071030
CREATED:20220518T202920Z
LAST-MODIFIED:20250211T201249Z
UID:1417-1753020000-1753034400@www.mv-ernestgruen.de
SUMMARY:Gartenfest FFW Ottengrün
DESCRIPTION:Zum Gartenfest der FFW Ottengrün spielt die Blaskapelle Ernestgrün im Biergarten „Zum Grünen Baum“ Rothmühle am Sonntag 20.07.2025 ab 14:00 Uhr.
URL:https://www.mv-ernestgruen.de/event/gartenfest-ffw-ottengruen/
LOCATION:Rothmühle\, Rothmühle 24\, Neualbenreuth\, 95698
END:VEVENT
BEGIN:VEVENT
DTSTART;TZID=Europe/Berlin:20250713T083000
DTEND;TZID=Europe/Berlin:20250713T143000
DTSTAMP:20260422T071030
CREATED:20220518T201615Z
LAST-MODIFIED:20250211T201058Z
UID:1410-1752395400-1752417000@www.mv-ernestgruen.de
SUMMARY:150 Jahre Freiwillige Feuerwehr Bad Neualbenreuth
DESCRIPTION:Zum 150-jährigen Gründungsfest der FFW Bad Neualbenreuth gestaltet die Blaskapelle Ernestgrün am Sonntag\, 13.07. den Kirchenzug\, Frühschoppen und den Festzug. \n 
URL:https://www.mv-ernestgruen.de/event/gottesdienstgestaltung-zur-wolfgangswoche/
LOCATION:Freizeitareal Bad Neualbenreuth\, Raifeisenstraße\, Bad Neualbenreuth\, 95698
END:VEVENT
BEGIN:VEVENT
DTSTART;TZID=Europe/Berlin:20250704T190000
DTEND;TZID=Europe/Berlin:20250704T220000
DTSTAMP:20260422T071030
CREATED:20220518T203205Z
LAST-MODIFIED:20250211T200428Z
UID:1419-1751655600-1751666400@www.mv-ernestgruen.de
SUMMARY:Öffentliche Musikprobe - der Auftakt -
DESCRIPTION:Öffentliche Musikprobe der Blaskapelle Ernestgrün im Sengerhof Bad Neualbenreuth\, Freitag 04. Juli. \n  \n 
URL:https://www.mv-ernestgruen.de/event/oeffentliche-musikprobe/
LOCATION:Sengerhof\, Turmstraße 5-7\, Neualbenreuth\, Bayern\, 95698\, Deutschland
END:VEVENT
BEGIN:VEVENT
DTSTART;TZID=Europe/Berlin:20250629T110000
DTEND;TZID=Europe/Berlin:20250629T140000
DTSTAMP:20260422T071030
CREATED:20250626T042638Z
LAST-MODIFIED:20250626T042703Z
UID:2834-1751194800-1751205600@www.mv-ernestgruen.de
SUMMARY:125-jähriges Gründungsfest FFW Pechbrunn
DESCRIPTION:11:15 Uhr: Festzug durch den Ort. \nanschließend Festbetrieb im Festzelt beim Schützenheim.
URL:https://www.mv-ernestgruen.de/event/125-jaehriges-gruendungsfest-ffw-pechbrunn/
LOCATION:Schützenheim Pechbrunn\, Pechbrunn\, Deutschland
END:VEVENT
BEGIN:VEVENT
DTSTART;TZID=Europe/Berlin:20250628T110000
DTEND;TZID=Europe/Berlin:20250628T120000
DTSTAMP:20260422T071030
CREATED:20240206T044836Z
LAST-MODIFIED:20250211T200309Z
UID:2259-1751108400-1751112000@www.mv-ernestgruen.de
SUMMARY:Kirche in Maiersgrün
DESCRIPTION:Gottesdienst in der Kirchenruine Maiersgrün (CZ)\, musikalische Gestaltung durch Bläserquartett Blaskapelle Ernestgrün.
URL:https://www.mv-ernestgruen.de/event/kirche-in-maiersgruen/
LOCATION:Bayern
END:VEVENT
BEGIN:VEVENT
DTSTART;TZID=Europe/Berlin:20250627T190000
DTEND;TZID=Europe/Berlin:20250627T220000
DTSTAMP:20260422T071030
CREATED:20220518T202643Z
LAST-MODIFIED:20250211T200149Z
UID:1415-1751050800-1751061600@www.mv-ernestgruen.de
SUMMARY:Johannisfeuer am Grenzlandturm
DESCRIPTION:Johannisfeuer des OWV Bad Neualbenreuth am Grenzlandturm am Freitag\, 27.06. ab 19:00 Uhr.
URL:https://www.mv-ernestgruen.de/event/johannisfeuer-am-grenzlandturm/
LOCATION:Grenzlandturm\, Turmstraße\, Neualbenreuth\, Bayern\, 95689\, Deutschland
END:VEVENT
BEGIN:VEVENT
DTSTART;TZID=Europe/Berlin:20250619T140000
DTEND;TZID=Europe/Berlin:20250619T180000
DTSTAMP:20260422T071030
CREATED:20220410T100730Z
LAST-MODIFIED:20250211T200019Z
UID:1263-1750341600-1750356000@www.mv-ernestgruen.de
SUMMARY:Gartenfest des Musikverein Ernestgrün e.V.
DESCRIPTION:Donnerstag (Fronleichnam)\, 19.06..\, ab 14:00 Uhr. \nIm Biergarten der Gaststätte „Zum Grünen Baum“\, Rothmühle bei Bad Neualbenreuth. \nEs spielt die Blaskapelle Ernestgrün\, Ltg. Eduard Frank. \n  \n 
URL:https://www.mv-ernestgruen.de/event/gartenfest-des-musikvereins-ernestgruen-e-v/
LOCATION:Rothmühle\, Rothmühle 24\, Neualbenreuth\, 95698
END:VEVENT
BEGIN:VEVENT
DTSTART;TZID=Europe/Berlin:20250619T083000
DTEND;TZID=Europe/Berlin:20250619T103000
DTSTAMP:20260422T071030
CREATED:20220518T202003Z
LAST-MODIFIED:20250211T195843Z
UID:1413-1750321800-1750329000@www.mv-ernestgruen.de
SUMMARY:Kirchenzug und Gottesdienstgestaltung\, Fronleichnam
DESCRIPTION:Kirchenzug und Gottesdienstgestaltung zu Fronleichnam. \nDonnerstag (Fronleichnam)\, 19.06.2025\, ab 08:45 Uhr\, Kirchenzug und musikalische Gottesdienstgestaltung.
URL:https://www.mv-ernestgruen.de/event/kirchenzug-und-gottesdienstgestaltung-fronleichnam/
LOCATION:Pfarrkirche St. Laurentius Bad Neualbenreuth\, Marktplatz 14\, Bad Neualbenreuth\, Bayern\, 95698\, Deutschland
END:VEVENT
BEGIN:VEVENT
DTSTART;TZID=Europe/Berlin:20250601T084500
DTEND;TZID=Europe/Berlin:20250601T090000
DTSTAMP:20260422T071030
CREATED:20220518T200212Z
LAST-MODIFIED:20250211T195726Z
UID:1405-1748767500-1748768400@www.mv-ernestgruen.de
SUMMARY:Kirchenzug zur Erstkommunion
DESCRIPTION:Sonntag\, 01.06.2025 um 08:45 Uhr\, zur Pfarrkirche St. Laurentius Bad Neualbenreuth.
URL:https://www.mv-ernestgruen.de/event/kirchenzug-zur-erstkommunion/
LOCATION:Marktplatz Bad Neualbenreuth\, Marktplatz\, Bad Neualbenreuth\, 95698\, Deutschland
END:VEVENT
BEGIN:VEVENT
DTSTART;TZID=Europe/Berlin:20250529T120000
DTEND;TZID=Europe/Berlin:20250529T163000
DTSTAMP:20260422T071030
CREATED:20240712T043056Z
LAST-MODIFIED:20250211T195527Z
UID:2378-1748520000-1748536200@www.mv-ernestgruen.de
SUMMARY:Zoiglfest / Vatertagsfeier
DESCRIPTION:Zum Zoiglfest des Tourismusverein Bad Neualbenreuth spielt die Blaskapelle Ernestgrün an Christi Himmelfahrt ab 12:00 Uhr.
URL:https://www.mv-ernestgruen.de/event/backofenfest/
LOCATION:Freizeitareal Bad Neualbenreuth\, Raifeisenstraße\, Bad Neualbenreuth\, 95698
END:VEVENT
BEGIN:VEVENT
DTSTART;TZID=Europe/Berlin:20250511T100000
DTEND;TZID=Europe/Berlin:20250511T110000
DTSTAMP:20260422T071030
CREATED:20220410T100506Z
LAST-MODIFIED:20250509T074632Z
UID:1261-1746957600-1746961200@www.mv-ernestgruen.de
SUMMARY:Standkonzert zum "Muttertag".
DESCRIPTION:Nach dem 09:00 Uhr Gottesdienst an der Allerheiligenkirche bei Wernersreuth.
URL:https://www.mv-ernestgruen.de/event/muttertagsstandkonzert/
LOCATION:Wernersreuth\, Allerheiligenkirche bei Wernersreuth\, Allerheiligenkirche bei Wernersreuth\, Bayern\, 95698\, Deutschland
END:VEVENT
BEGIN:VEVENT
DTSTART;TZID=Europe/Berlin:20250503T150000
DTEND;TZID=Europe/Berlin:20250504T200000
DTSTAMP:20260422T071030
CREATED:20230126T110657Z
LAST-MODIFIED:20250211T195004Z
UID:1769-1746284400-1746388800@www.mv-ernestgruen.de
SUMMARY:14. Fest der Blasmusik
DESCRIPTION:14. Fest der Blasmusik\nam Festplatz in Bad Neualbenreuth. \nSamstag\, 03.05.2025: (Einlaß 13:30 Uhr) \n15:00-16:00 Uhr\, Blaskapelle Ernestgrün \n16:30-18:30 Uhr\, Blaskapelle Blecharanka \n19:30-21:30 Uhr\, Die Innsbrucker Böhmischen \n22:00-01:00 Uhr\, Dunajska Kapela \n  \nSonntag\, 04.05.2025: (Einlaß 09:00 Uhr) \n10:00-12:00 Uhr\, Christof Gleichauf und Keine Stille Stunde \n12:30-14:30 Uhr\, Die Schlenkerer \n15:00-17:00 Uhr\, Die Scherzachtaler \n17:30-20:00 Uhr\, Musikatzen \n  \n 
URL:https://www.mv-ernestgruen.de/event/13-fest-der-blasmusik/
LOCATION:Festplatz Neualbenreuth\, Otto-Freundl-Straße\, Neualbenreuth\, Bayern\, 95698\, Deutschland
END:VEVENT
BEGIN:VEVENT
DTSTART;TZID=Europe/Berlin:20250502T190000
DTEND;TZID=Europe/Berlin:20250502T230000
DTSTAMP:20260422T071030
CREATED:20250423T195517Z
LAST-MODIFIED:20250423T195517Z
UID:2649-1746212400-1746226800@www.mv-ernestgruen.de
SUMMARY:WARM-UP zum 14. Fest der Blasmusik
DESCRIPTION: 
URL:https://www.mv-ernestgruen.de/event/warm-up-zum-14-fest-der-blasmusik/
LOCATION:Festplatz Neualbenreuth\, Otto-Freundl-Straße\, Neualbenreuth\, Bayern\, 95698\, Deutschland
END:VEVENT
BEGIN:VEVENT
DTSTART;TZID=Europe/Berlin:20250406T150000
DTEND;TZID=Europe/Berlin:20250406T160000
DTSTAMP:20260422T071030
CREATED:20250211T194205Z
LAST-MODIFIED:20250211T194235Z
UID:2592-1743951600-1743955200@www.mv-ernestgruen.de
SUMMARY:Passionssingen in der Kleinen Kappl
DESCRIPTION:Passionssingen in der Kirche Kleinen Kappl\, musikalische Gestaltung u.a. mit der Blaskapelle Ernestgrün.
URL:https://www.mv-ernestgruen.de/event/passionssingen-in-der-kleinen-kappl/
LOCATION:Ottengrün\, Kleine Kappl\, Ottengrün\, Kleine Kappl\, Bad Neualbenreuth\, Bayern\, 95698\, Deutschland
END:VEVENT
BEGIN:VEVENT
DTSTART;TZID=Europe/Berlin:20250406T083000
DTEND;TZID=Europe/Berlin:20250406T100000
DTSTAMP:20260422T071030
CREATED:20250211T194528Z
LAST-MODIFIED:20250211T194548Z
UID:2594-1743928200-1743933600@www.mv-ernestgruen.de
SUMMARY:Kichenzug zum Bezirksschützentag
DESCRIPTION:Der Bezirksschütztentag wird durch den „Schützenverein RSO Ottengrün“ veranstaltet. \nKirchenzug mit den teilnehmenden Vereinen zur Pfarrkirche St. Laurentius in Bad Neualbenreuth\, musikal. Gestaltung: Blaskapelle Ernestgrün.
URL:https://www.mv-ernestgruen.de/event/kichenzug-zum-bezirksschuetzentag/
LOCATION:Pfarrkirche St. Laurentius Bad Neualbenreuth\, Marktplatz 14\, Bad Neualbenreuth\, Bayern\, 95698\, Deutschland
END:VEVENT
BEGIN:VEVENT
DTSTART;TZID=Europe/Berlin:20250207T200000
DTEND;TZID=Europe/Berlin:20250207T220000
DTSTAMP:20260422T071030
CREATED:20240205T094714Z
LAST-MODIFIED:20250126T153901Z
UID:2207-1738958400-1738965600@www.mv-ernestgruen.de
SUMMARY:Jahreshauptversammlung Musikverein Ernestgrün e.V.
DESCRIPTION:Die diesjährige Jahreshauptversammlung findet am Freitag\, 07.02.2025 um 20:00 Uhr in der Vereinsgaststätte „Zum Grünen Baum“\, Rothmühle\, statt. \n  \n 
URL:https://www.mv-ernestgruen.de/event/jahreshauptversammlung-musikverein-ernestgruen-e-v-3/
LOCATION:Rothmühle\, Rothmühle 24\, Neualbenreuth\, 95698
ORGANIZER;CN="Musikverein Ernestgr%C3%BCn e.V.":MAILTO:mv-ernestgruen@t-online.de
END:VEVENT
BEGIN:VEVENT
DTSTART;TZID=Europe/Berlin:20241229T170000
DTEND;TZID=Europe/Berlin:20241229T190000
DTSTAMP:20260422T071030
CREATED:20241219T200243Z
LAST-MODIFIED:20241219T200243Z
UID:2577-1735491600-1735498800@www.mv-ernestgruen.de
SUMMARY:Weihnachtssingen
DESCRIPTION:Bad Neualbenreuther Weihnachtssingen in der Pfarrkirche Bad Neualbenreuth am 29.12.2024 um 17:00 Uhr mit einheimischen Musikgruppen.
URL:https://www.mv-ernestgruen.de/event/weihnachtssingen/
LOCATION:Pfarrkirche St. Laurentius Bad Neualbenreuth\, Marktplatz 14\, Bad Neualbenreuth\, Bayern\, 95698\, Deutschland
ATTACH;FMTTYPE=image/jpeg:https://www.mv-ernestgruen.de/wp-content/uploads/2024/12/Weihnachtssingen-2024.jpg
END:VEVENT
BEGIN:VEVENT
DTSTART;TZID=Europe/Berlin:20240728T100000
DTEND;TZID=Europe/Berlin:20240728T180000
DTSTAMP:20260422T071030
CREATED:20220624T092101Z
LAST-MODIFIED:20240206T042240Z
UID:1450-1722160800-1722189600@www.mv-ernestgruen.de
SUMMARY:Magdalenenfest Wernersreuth
DESCRIPTION:Magdalenenfest bei der Allerheiligenkirche Wernersreuth am 28.07.2024. \n09:00 Uhr – Gottesdienst \nanschl. Festbetrieb mit der Blaskapelle Ernestgrün.
URL:https://www.mv-ernestgruen.de/event/magdalenenfest-wernersreuth/
LOCATION:Wernersreuth\, Allerheiligenkirche bei Wernersreuth\, Allerheiligenkirche bei Wernersreuth\, Bayern\, 95698\, Deutschland
END:VEVENT
BEGIN:VEVENT
DTSTART;TZID=Europe/Berlin:20240706T160000
DTEND;TZID=Europe/Berlin:20240706T200000
DTSTAMP:20260422T071030
CREATED:20240701T070404Z
LAST-MODIFIED:20240701T070509Z
UID:2369-1720281600-1720296000@www.mv-ernestgruen.de
SUMMARY:Gartenfest "25 Jahre Gasthof Tillnblick"
DESCRIPTION:Anläßlich des 25-jährigem Betriebsjubiläums veranstaltet der Gasthof „Zum Tillnblick“ am Samstag 06. Juli ab 16:00 Uhr ein Gartenfest mit der Blaskapelle Ernestgrün. \nTirschenreuther Str. 6A\, 95698 Bad Neualbenreuth
URL:https://www.mv-ernestgruen.de/event/gartenfest-25-jahre-gasthof-tillnblick/
LOCATION:Gasthaus „Zum Tillnblick“\, Neualbenreuth\, Tirschenreuther Str. 6a\, Neualbenreuth\, 95698\, Deutschland
END:VEVENT
BEGIN:VEVENT
DTSTART;TZID=Europe/Berlin:20240603T090000
DTEND;TZID=Europe/Berlin:20240603T130000
DTSTAMP:20260422T071030
CREATED:20240206T040728Z
LAST-MODIFIED:20240206T040746Z
UID:2230-1717405200-1717419600@www.mv-ernestgruen.de
SUMMARY:Frühschoppen 135 Jahre Burschenverein Concordia Konnersreuth
DESCRIPTION:Zum 135-jährigen Gründungsfest spielt die Blaskapelle Ernestgrün am Montag\, 03.06.2024 ab 09:00 Uhr. \nInfo: https://www.facebook.com/events/1395193608074260/?ref=newsfeed
URL:https://www.mv-ernestgruen.de/event/fruehschoppen-135-jahre-burschenverein-konnersreuth/
LOCATION:Konnersreuth\, Konnersreuth\, Deutschland
END:VEVENT
BEGIN:VEVENT
DTSTART;TZID=Europe/Berlin:20240531T170000
DTEND;TZID=Europe/Berlin:20240602T180000
DTSTAMP:20260422T071030
CREATED:20240206T033512Z
LAST-MODIFIED:20240521T020547Z
UID:2221-1717174800-1717351200@www.mv-ernestgruen.de
SUMMARY:Jubiläumsfest "20 Jahre Blaskapelle Blecharanka"
DESCRIPTION:Jubiläumsfest „20 Jahre Blaskapelle Blecharanka“ vom 31.05.-02.06.2024 in Andau/Niederösterreich. \nBlaskapelle Ernestgrün spielt am 01.06. von 17:00-19:00 Uhr. \nProgramm unter http://www.blecharanka.at
URL:https://www.mv-ernestgruen.de/event/jubilaeumsfest-20-jahre-blaskapelle-blecharanka/
LOCATION:Andau\, Andau\, 7163\, Österreich
END:VEVENT
BEGIN:VEVENT
DTSTART;TZID=Europe/Berlin:20240430T170000
DTEND;TZID=Europe/Berlin:20240430T170000
DTSTAMP:20260422T071030
CREATED:20240206T032007Z
LAST-MODIFIED:20240206T032007Z
UID:2215-1714496400-1714496400@www.mv-ernestgruen.de
SUMMARY:Maibaumaufstellen
DESCRIPTION:Maibaumaufstellen am Marktplatz Bad Neualbenreuth.
URL:https://www.mv-ernestgruen.de/event/maibaumaufstellen/
LOCATION:Marktplatz Bad Neualbenreuth\, Marktplatz\, Bad Neualbenreuth\, 95698\, Deutschland
END:VEVENT
END:VCALENDAR