BEGIN:VCALENDAR
VERSION:2.0
PRODID:-//Musikverein Ernestgrün - ECPv6.15.20//NONSGML v1.0//EN
CALSCALE:GREGORIAN
METHOD:PUBLISH
X-WR-CALNAME:Musikverein Ernestgrün
X-ORIGINAL-URL:https://www.mv-ernestgruen.de
X-WR-CALDESC:Veranstaltungen für Musikverein Ernestgrün
REFRESH-INTERVAL;VALUE=DURATION:PT1H
X-Robots-Tag:noindex
X-PUBLISHED-TTL:PT1H
BEGIN:VTIMEZONE
TZID:Europe/Berlin
BEGIN:DAYLIGHT
TZOFFSETFROM:+0100
TZOFFSETTO:+0200
TZNAME:CEST
DTSTART:20250330T010000
END:DAYLIGHT
BEGIN:STANDARD
TZOFFSETFROM:+0200
TZOFFSETTO:+0100
TZNAME:CET
DTSTART:20251026T010000
END:STANDARD
BEGIN:DAYLIGHT
TZOFFSETFROM:+0100
TZOFFSETTO:+0200
TZNAME:CEST
DTSTART:20260329T010000
END:DAYLIGHT
BEGIN:STANDARD
TZOFFSETFROM:+0200
TZOFFSETTO:+0100
TZNAME:CET
DTSTART:20261025T010000
END:STANDARD
BEGIN:DAYLIGHT
TZOFFSETFROM:+0100
TZOFFSETTO:+0200
TZNAME:CEST
DTSTART:20270328T010000
END:DAYLIGHT
BEGIN:STANDARD
TZOFFSETFROM:+0200
TZOFFSETTO:+0100
TZNAME:CET
DTSTART:20271031T010000
END:STANDARD
END:VTIMEZONE
BEGIN:VEVENT
DTSTART;TZID=Europe/Berlin:20260424T190000
DTEND;TZID=Europe/Berlin:20260424T220000
DTSTAMP:20260422T033051
CREATED:20230405T040140Z
LAST-MODIFIED:20260219T090845Z
UID:1832-1777057200-1777068000@www.mv-ernestgruen.de
SUMMARY:Öffentliche Musikprobe zum Saisonauftakt
DESCRIPTION:Öffentliche Musikprobe der Blaskapelle Ernestgrün  am Freitag\, 24.04.2026\, ab 19:00 Uhr  im Gasthof Adamhof in Hardeck.
URL:https://www.mv-ernestgruen.de/event/oeffentliche-musikprobe-4/
LOCATION:Adamhof\, Hardeck 8\, Bad Neualbnereuth\, 95698\, Deutschland
END:VEVENT
END:VCALENDAR